BEGIN:VCALENDAR
VERSION:2.0
PRODID:-//WA Italian Club - ECPv6.15.18//NONSGML v1.0//EN
CALSCALE:GREGORIAN
METHOD:PUBLISH
X-ORIGINAL-URL:https://waitalianclub.com
X-WR-CALDESC:Events for WA Italian Club
REFRESH-INTERVAL;VALUE=DURATION:PT1H
X-Robots-Tag:noindex
X-PUBLISHED-TTL:PT1H
BEGIN:VTIMEZONE
TZID:Australia/Perth
BEGIN:STANDARD
TZOFFSETFROM:+0800
TZOFFSETTO:+0800
TZNAME:AWST
DTSTART:20230101T000000
END:STANDARD
END:VTIMEZONE
BEGIN:VEVENT
DTSTART;TZID=Australia/Perth:20241213T160000
DTEND;TZID=Australia/Perth:20241213T170000
DTSTAMP:20260421T181057
CREATED:20241211T074528Z
LAST-MODIFIED:20241211T074952Z
UID:3628-1734105600-1734109200@waitalianclub.com
SUMMARY:Members' Christmas Drinks & Panettone
DESCRIPTION:
URL:https://waitalianclub.com/event/members-christmas-drinks-panettone/
LOCATION:WA Italian Club
ATTACH;FMTTYPE=image/png:https://waitalianclub.com/wp-content/uploads/2024/12/EDM-BANNER-LARGE-6.png
END:VEVENT
END:VCALENDAR