BEGIN:VCALENDAR
VERSION:2.0
PRODID:-//WA Italian Club - ECPv6.15.18//NONSGML v1.0//EN
CALSCALE:GREGORIAN
METHOD:PUBLISH
X-ORIGINAL-URL:https://waitalianclub.com
X-WR-CALDESC:Events for WA Italian Club
REFRESH-INTERVAL;VALUE=DURATION:PT1H
X-Robots-Tag:noindex
X-PUBLISHED-TTL:PT1H
BEGIN:VTIMEZONE
TZID:UTC
BEGIN:STANDARD
TZOFFSETFROM:+0000
TZOFFSETTO:+0000
TZNAME:UTC
DTSTART:20230101T000000
END:STANDARD
END:VTIMEZONE
BEGIN:VEVENT
DTSTART;TZID=UTC:20241101T120000
DTEND;TZID=UTC:20241129T120000
DTSTAMP:20260421T180945
CREATED:20241107T032308Z
LAST-MODIFIED:20241107T032533Z
UID:3581-1730462400-1732881600@waitalianclub.com
SUMMARY:WA Italian Club & Perth Soccer Club Auction
DESCRIPTION:The Fondazione Milan foundation has generously donated a collection of exclusive AC Milan signed memorabilia\, along with a signed Sam Kerr Matilda’s jersey donated by Football Australia\, in support of the Perth Soccer Club and WA Italian Club. Proceeds raised from this auction will go towards infrastructure upgrades and notably\, the Perth Soccer Club Blind Football Team. \nThe auction will run from 12PM WST on 1/11/2024 and close 12PM WST on 29/11/2024.
URL:https://waitalianclub.com/event/wa-italian-club-perth-soccer-club-auction/
ATTACH;FMTTYPE=image/jpeg:https://waitalianclub.com/wp-content/uploads/2024/09/44.jpg
END:VEVENT
END:VCALENDAR