BEGIN:VCALENDAR
VERSION:2.0
PRODID:-//WA Italian Club - ECPv6.15.18//NONSGML v1.0//EN
CALSCALE:GREGORIAN
METHOD:PUBLISH
X-ORIGINAL-URL:https://waitalianclub.com
X-WR-CALDESC:Events for WA Italian Club
REFRESH-INTERVAL;VALUE=DURATION:PT1H
X-Robots-Tag:noindex
X-PUBLISHED-TTL:PT1H
BEGIN:VTIMEZONE
TZID:UTC
BEGIN:STANDARD
TZOFFSETFROM:+0000
TZOFFSETTO:+0000
TZNAME:UTC
DTSTART:20230101T000000
END:STANDARD
END:VTIMEZONE
BEGIN:VEVENT
DTSTART;TZID=UTC:20240510T121500
DTEND;TZID=UTC:20240510T150000
DTSTAMP:20260422T062113
CREATED:20240416T052624Z
LAST-MODIFIED:20240418T072238Z
UID:2791-1715343300-1715353200@waitalianclub.com
SUMMARY:North Meets South Business Lunch
DESCRIPTION:
URL:https://waitalianclub.com/event/north-meets-south-business-lunch/
LOCATION:WA Croatian Community Centre\, Alfred St\, North Fremantle\, Australia
ATTACH;FMTTYPE=image/jpeg:https://waitalianclub.com/wp-content/uploads/2023/10/North-meets-south-–-1-1-e1713245171576.jpg
END:VEVENT
END:VCALENDAR