BEGIN:VCALENDAR
VERSION:2.0
PRODID:-//WA Italian Club - ECPv6.15.18//NONSGML v1.0//EN
CALSCALE:GREGORIAN
METHOD:PUBLISH
X-ORIGINAL-URL:https://waitalianclub.com
X-WR-CALDESC:Events for WA Italian Club
REFRESH-INTERVAL;VALUE=DURATION:PT1H
X-Robots-Tag:noindex
X-PUBLISHED-TTL:PT1H
BEGIN:VTIMEZONE
TZID:Australia/Perth
BEGIN:STANDARD
TZOFFSETFROM:+0800
TZOFFSETTO:+0800
TZNAME:AWST
DTSTART:20230101T000000
END:STANDARD
END:VTIMEZONE
BEGIN:VEVENT
DTSTART;TZID=Australia/Perth:20240427T200000
DTEND;TZID=Australia/Perth:20240427T233000
DTSTAMP:20260422T131153
CREATED:20240229T020543Z
LAST-MODIFIED:20240405T022945Z
UID:2706-1714248000-1714260600@waitalianclub.com
SUMMARY:Giuseppe the MC
DESCRIPTION:
URL:https://waitalianclub.com/event/giuseppe-the-mc/
LOCATION:WA Italian Club
ATTACH;FMTTYPE=image/png:https://waitalianclub.com/wp-content/uploads/2024/02/Screenshot-2024-02-29-at-9.49.59-am.png
END:VEVENT
END:VCALENDAR