BEGIN:VCALENDAR
VERSION:2.0
PRODID:-//WA Italian Club - ECPv6.15.18//NONSGML v1.0//EN
CALSCALE:GREGORIAN
METHOD:PUBLISH
X-WR-CALNAME:WA Italian Club
X-ORIGINAL-URL:https://waitalianclub.com
X-WR-CALDESC:Events for WA Italian Club
REFRESH-INTERVAL;VALUE=DURATION:PT1H
X-Robots-Tag:noindex
X-PUBLISHED-TTL:PT1H
BEGIN:VTIMEZONE
TZID:UTC
BEGIN:STANDARD
TZOFFSETFROM:+0000
TZOFFSETTO:+0000
TZNAME:UTC
DTSTART:20220101T000000
END:STANDARD
END:VTIMEZONE
BEGIN:VEVENT
DTSTART;TZID=UTC:20231124T121500
DTEND;TZID=UTC:20231124T150000
DTSTAMP:20260425T055252
CREATED:20231012T050353Z
LAST-MODIFIED:20231015T235452Z
UID:2561-1700828100-1700838000@waitalianclub.com
SUMMARY:North Meets South Business Lunch & Christmas function
DESCRIPTION:
URL:https://waitalianclub.com/event/north-meets-south-business-lunch-christmas-function/
LOCATION:WA Italian Club
ATTACH;FMTTYPE=image/jpeg:https://waitalianclub.com/wp-content/uploads/2023/10/North-meets-south-–-1-1-e1713245171576.jpg
END:VEVENT
END:VCALENDAR